BEGIN:VCALENDAR
VERSION:2.0
PRODID:-//Mutmacherei - ECPv6.15.20//NONSGML v1.0//EN
CALSCALE:GREGORIAN
METHOD:PUBLISH
X-WR-CALNAME:Mutmacherei
X-ORIGINAL-URL:https://www.mutmacherei.de
X-WR-CALDESC:Veranstaltungen für Mutmacherei
REFRESH-INTERVAL;VALUE=DURATION:PT1H
X-Robots-Tag:noindex
X-PUBLISHED-TTL:PT1H
BEGIN:VTIMEZONE
TZID:Europe/Berlin
BEGIN:DAYLIGHT
TZOFFSETFROM:+0100
TZOFFSETTO:+0200
TZNAME:CEST
DTSTART:20250330T010000
END:DAYLIGHT
BEGIN:STANDARD
TZOFFSETFROM:+0200
TZOFFSETTO:+0100
TZNAME:CET
DTSTART:20251026T010000
END:STANDARD
BEGIN:DAYLIGHT
TZOFFSETFROM:+0100
TZOFFSETTO:+0200
TZNAME:CEST
DTSTART:20260329T010000
END:DAYLIGHT
BEGIN:STANDARD
TZOFFSETFROM:+0200
TZOFFSETTO:+0100
TZNAME:CET
DTSTART:20261025T010000
END:STANDARD
BEGIN:DAYLIGHT
TZOFFSETFROM:+0100
TZOFFSETTO:+0200
TZNAME:CEST
DTSTART:20270328T010000
END:DAYLIGHT
BEGIN:STANDARD
TZOFFSETFROM:+0200
TZOFFSETTO:+0100
TZNAME:CET
DTSTART:20271031T010000
END:STANDARD
END:VTIMEZONE
BEGIN:VEVENT
DTSTART;TZID=Europe/Berlin:20260425T093000
DTEND;TZID=Europe/Berlin:20260425T170000
DTSTAMP:20260422T033159
CREATED:20250918T092741Z
LAST-MODIFIED:20250918T094428Z
UID:802362-1777109400-1777136400@www.mutmacherei.de
SUMMARY:Schritte zum Heilwerden – Tagesseminar
DESCRIPTION:Systemische Aufstellungen\, besser bekannt als „Familienaufstellungen“\, sind ein wunderbares Werkzeug auf dem Weg in ein erfülltes\, glückliches Leben.\nEs handelt sich dabei um ein transpersonales Verfahren\, mit dem sich hinderliche Zustände und Bindungen aufdecken und lösen lassen. Es können alle Anliegen bearbeitet werden\, egal ob sie beruflicher oder persönlich-familiärer Natur sind oder ob es eher um psychische oder physische Schwierigkeiten geht. Alles ist willkommen\, wichtig ist\, dass es ein echtes Anliegen ist\, kein bloßes „Ich will mal schauen\, wie das funktioniert“. Letzteres darf gern auch sein\, dann aber bitte in der Rolle der Stellver­treter oder\, falls gewünscht\, auch der reinen Beobachter. Wer sich vertieft mit der Wirkweise systemischer Aufstellungen beschäftigen möchte\, findet hilfreiche Informationen auf der Website meines geschätzten Lehrers Dr. Albrecht Mahr. \nFünf Menschen können mit einem eigenen Aufstellungsanliegen teilnehmen; die weiteren Teilnehmer/innen (max. 10) sind eingeladen\, sich als Stellvertreter/innen in die Aufstellungen einzubringen. Erfahrungsgemäß nehmen auch sie viel davon mit\, weil man auch als Stellvertreter mit seinen persönlichen Themen in Resonanz geht und im eigenen System etwas in Bewegung kommt. Gerade für Neueinsteiger ist das eine hervorragende Möglichkeit\, um Aufstellungsarbeit und mich als Leiterin kennenzulernen. \nAnmeldung zwingend erforderlich bitte bis spätestens Freitag\, 25.04.26. Die Plätze für eigene Anliegen werden in der Reihenfolge der Anmeldung vergeben. \nWichtig: Es gibt zwei unterschiedliche Anmeldeformulare für eigenes Anliegen bzw. Stellvertreter/Beobachter. \nZusätzliche Stellvertreter*innen sind willkommen\, ebenfalls aber bitte nur mit Anmeldung. \nPreise:Aufstellung mit eigenem Anliegen: 190 €Für Stellvertreter/Beobachter: 35 €
URL:https://www.mutmacherei.de/event/schritte-zum-heilwerden-tagesseminar/
LOCATION:Kulturbahnhof Ottensoos\, Bahnhofstraße 11\, Ottensoos\, 91242\, Germany
CATEGORIES:Systemaufstellungen & Selbsterfahrung
ORGANIZER;CN="Claudia M%C3%B6nius":MAILTO:info@mutmacherei.de
END:VEVENT
BEGIN:VEVENT
DTSTART;TZID=Europe/Berlin:20260429T180000
DTEND;TZID=Europe/Berlin:20260429T190000
DTSTAMP:20260422T033159
CREATED:20251106T113953Z
LAST-MODIFIED:20251110T095542Z
UID:802434-1777485600-1777489200@www.mutmacherei.de
SUMMARY:"Schweigen. Sprechen. Spielen" Autorenlesung im Nordklinikum Nürnberg
DESCRIPTION:An diesem Abend lese ich in der Kapelle des Nordklinikums aus meinem Buch „Schweigen. Sprechen. Spielen. Dreiklang für mehr Leichtigkeit und Lebensfreude“. An diese Kapelle habe ich eine besondere Erinnerung: Als Kind war ich mehrfach als Patientin im Nordklinikum. Mein Vater holte mich ab und ging mit mir jedes Mal als erstes in die Kapelle – um dafür zu danken\, dass er mich gesund wieder mit heim nehmen durfte. \nDer Weg zu Leichtigkeit und Lebensfreude war mir nicht in die Wiege gelegt\, sondern im Gegenteil ziemlich holperig und beschwerlich. Mit meinem Buch möchte ich andere Menschen ermutigen\, daran zu glauben\, dass es möglich ist\, aus dem Dunkel ans Licht und von der Schwere in die Leichtigkeit zu kommen. Seien Sie dazu herzlich willkommen!
URL:https://www.mutmacherei.de/event/schweigen-sprechen-spielen-autorenlesung-im-nordklinikum-nuernberg/
LOCATION:Klinikum Nürnberg Campus Nord\, Prof.-Ernst-Nathan-Straße 1\, Nürnberg\, 90419\, Germany
CATEGORIES:Lesungen und Seminare zum Buch
END:VEVENT
BEGIN:VEVENT
DTSTART;TZID=Europe/Berlin:20260704T093000
DTEND;TZID=Europe/Berlin:20260704T170000
DTSTAMP:20260422T033159
CREATED:20250918T094201Z
LAST-MODIFIED:20250918T094206Z
UID:802371-1783157400-1783184400@www.mutmacherei.de
SUMMARY:Schritte zum Heilwerden – Tagesseminar
DESCRIPTION:Systemische Aufstellungen\, besser bekannt als „Familienaufstellungen“\, sind ein wunderbares Werkzeug auf dem Weg in ein erfülltes\, glückliches Leben.\nEs handelt sich dabei um ein transpersonales Verfahren\, mit dem sich hinderliche Zustände und Bindungen aufdecken und lösen lassen. Es können alle Anliegen bearbeitet werden\, egal ob sie beruflicher oder persönlich-familiärer Natur sind oder ob es eher um psychische oder physische Schwierigkeiten geht. Alles ist willkommen\, wichtig ist\, dass es ein echtes Anliegen ist\, kein bloßes „Ich will mal schauen\, wie das funktioniert“. Letzteres darf gern auch sein\, dann aber bitte in der Rolle der Stellver­treter oder\, falls gewünscht\, auch der reinen Beobachter. Wer sich vertieft mit der Wirkweise systemischer Aufstellungen beschäftigen möchte\, findet hilfreiche Informationen auf der Website meines geschätzten Lehrers Dr. Albrecht Mahr. \nFünf Menschen können mit einem eigenen Aufstellungsanliegen teilnehmen; die weiteren Teilnehmer/innen (max. 10) sind eingeladen\, sich als Stellvertreter/innen in die Aufstellungen einzubringen. Erfahrungsgemäß nehmen auch sie viel davon mit\, weil man auch als Stellvertreter mit seinen persönlichen Themen in Resonanz geht und im eigenen System etwas in Bewegung kommt. Gerade für Neueinsteiger ist das eine hervorragende Möglichkeit\, um Aufstellungsarbeit und mich als Leiterin kennenzulernen. \nAnmeldung zwingend erforderlich bitte bis spätestens Freitag\, 3.07.26. Die Plätze für eigene Anliegen werden in der Reihenfolge der Anmeldung vergeben. \nWichtig: Es gibt zwei unterschiedliche Anmeldeformulare für eigenes Anliegen bzw. Stellvertreter/Beobachter. \nZusätzliche Stellvertreter*innen sind willkommen\, ebenfalls aber bitte nur mit Anmeldung. \nPreise:Aufstellung mit eigenem Anliegen: 190 €Für Stellvertreter/Beobachter: 35 €
URL:https://www.mutmacherei.de/event/schritte-zum-heilwerden-tagesseminar-2/
LOCATION:Kulturbahnhof Ottensoos\, Bahnhofstraße 11\, Ottensoos\, 91242\, Germany
CATEGORIES:Systemaufstellungen & Selbsterfahrung
ORGANIZER;CN="Claudia M%C3%B6nius":MAILTO:info@mutmacherei.de
END:VEVENT
BEGIN:VEVENT
DTSTART;TZID=Europe/Berlin:20260712T190000
DTEND;TZID=Europe/Berlin:20260712T200000
DTSTAMP:20260422T033159
CREATED:20251106T123047Z
LAST-MODIFIED:20251107T143252Z
UID:802458-1783882800-1783886400@www.mutmacherei.de
SUMMARY:"Schweigen. Sprechen. Spielen" Autorenlesung in St. Martin Fürth
DESCRIPTION:Ich freue mich sehr\, wieder einmal in St. Martin\, Fürth\, zu Gast sein zu dürfen\, wo ich vor Jahren bereits aus meinem ersten Buch lesen und sehr berührende Begegnungen erleben durfte. Gönnen Sie sich an diesem Sonntagabend eine Stunde Auszeit\, lauschen Sie den Impulsen aus meinem aktuellen Buch „Schweigen. Sprechen. Spielen. Dreiklang für mehr Leichtigkeit und Lebensfreude“ und lassen Sie uns miteinander ins Gespräch kommen. Ich freue mich auf Begegnung und Austausch mit Ihnen!
URL:https://www.mutmacherei.de/event/schweigen-sprechen-spielen-autorenlesung-in_st_martin_fuerth/
LOCATION:St. Martin Fürth\, Hochstraße 14\, Fürth\, 90766
CATEGORIES:Lesungen und Seminare zum Buch
END:VEVENT
BEGIN:VEVENT
DTSTART;TZID=Europe/Berlin:20260726T190000
DTEND;TZID=Europe/Berlin:20260726T200000
DTSTAMP:20260422T033159
CREATED:20251106T122031Z
LAST-MODIFIED:20251110T163031Z
UID:802453-1785092400-1785096000@www.mutmacherei.de
SUMMARY:"Schweigen. Sprechen. Spielen" Autorenlesung im Rahmen der "Innehalten-Wochen"
DESCRIPTION:Thematisch könnte es kaum schöner passen: An diesem Sommerabend lese ich im Rahmen der „Innehalten Wochen“ aus meinem Buch „Schweigen. Sprechen. Spielen. Dreiklang für mehr Leichtigkeit und Lebensfreude“. Gerade mitten in der Fülle des Sommers\, der uns zu vielen Aktivitäten einlädt und verlockt\, ist es gut\, sich hin und wieder erinnern zu lassen an heilsame Pausen und Momente des Innehaltens. Wenn dann noch achtsame Kommunikation im Wechsel mit spielerischen Elementen hinzukommt\, dann ist er perfekt: der Dreiklang für mehr Leichtigkeit und Lebensfreude. Lassen Sie sich inspirieren!
URL:https://www.mutmacherei.de/event/schweigen-sprechen-spielen-autorenlesung-im-rahmen-der-innehalten-wochen/
LOCATION:St. Johannes Postbauer\, Ezelsdorfer Straße 1\, Postbauer-Heng\, 92353\, Germany
CATEGORIES:Lesungen und Seminare zum Buch
END:VEVENT
BEGIN:VEVENT
DTSTART;TZID=Europe/Berlin:20261016T180000
DTEND;TZID=Europe/Berlin:20261018T130000
DTSTAMP:20260422T033159
CREATED:20251106T131606Z
LAST-MODIFIED:20260324T105704Z
UID:802465-1792173600-1792328400@www.mutmacherei.de
SUMMARY:"Schweigen. Sprechen. Spielen" Das Wochenendseminar zum Buch
DESCRIPTION:Ich freue mich riesig\, gerade in der LVHS\, der ich seit vielen Jahren verbunden bin\, das Begleitseminar zu meinem Buch  „Schweigen. Sprechen. Spielen. Dreiklang für mehr Leichtigkeit und Lebensfreude“ anbieten zu dürfen. Tauchen Sie an diesem Wochenende ein in den heilsamen Dreiklang und lassen Sie sich von meinem Mann und mir inspirieren mit praktischen Übungen zu wohltuender Stille\, achtsamer Kommunikation und spielerischer Leichtigkeit. „Leicht\, aber nicht seicht“\, so werden wir diese Tage für Sie und mit Ihnen gestalten. Und keine Sorge: Sie müssen das Buch nicht gelesen haben\, um am Seminar teilzunehmen. \nHier finden Sie den Flyer zum Seminar. \nHier geht’s zur Anmeldung direkt in der LVHS Niederalteich.
URL:https://www.mutmacherei.de/event/schweigen-sprechen-spielen-das-wochenendseminar-zum-buch/
LOCATION:Landvolkshochschule Niederalteich (bei Deggendorf)\, Hengersberger Straße 10\, Niederalteich\, Bayern\, 94557\, Deutschland
CATEGORIES:Lesungen und Seminare zum Buch
END:VEVENT
END:VCALENDAR